BEGIN:VCALENDAR
VERSION:2.0
PRODID:-//Mission Local - ECPv6.15.20//NONSGML v1.0//EN
CALSCALE:GREGORIAN
METHOD:PUBLISH
X-ORIGINAL-URL:https://missionlocal.org
X-WR-CALDESC:Events for Mission Local
REFRESH-INTERVAL;VALUE=DURATION:PT1H
X-Robots-Tag:noindex
X-PUBLISHED-TTL:PT1H
BEGIN:VTIMEZONE
TZID:America/Los_Angeles
BEGIN:DAYLIGHT
TZOFFSETFROM:-0800
TZOFFSETTO:-0700
TZNAME:PDT
DTSTART:20250309T100000
END:DAYLIGHT
BEGIN:STANDARD
TZOFFSETFROM:-0700
TZOFFSETTO:-0800
TZNAME:PST
DTSTART:20251102T090000
END:STANDARD
BEGIN:DAYLIGHT
TZOFFSETFROM:-0800
TZOFFSETTO:-0700
TZNAME:PDT
DTSTART:20260308T100000
END:DAYLIGHT
BEGIN:STANDARD
TZOFFSETFROM:-0700
TZOFFSETTO:-0800
TZNAME:PST
DTSTART:20261101T090000
END:STANDARD
BEGIN:DAYLIGHT
TZOFFSETFROM:-0800
TZOFFSETTO:-0700
TZNAME:PDT
DTSTART:20270314T100000
END:DAYLIGHT
BEGIN:STANDARD
TZOFFSETFROM:-0700
TZOFFSETTO:-0800
TZNAME:PST
DTSTART:20271107T090000
END:STANDARD
END:VTIMEZONE
BEGIN:VEVENT
DTSTART;TZID=America/Los_Angeles:20260426T120000
DTEND;TZID=America/Los_Angeles:20260426T150000
DTSTAMP:20260423T183414
CREATED:20260401T185442Z
LAST-MODIFIED:20260416T164825Z
UID:10039126-1777204800-1777215600@missionlocal.org
SUMMARY:Shaping SF: Ocean Beach Then & Now Photo Hunt
DESCRIPTION:Explore Ocean Beach in a treasure hunt and photo-taking exercise. We welcome you to join us in an exploration of the human and environmental changes along the Pacific seashore. Historic “Then” images will be posted from Sloat Boulevard to the Land’s End; you are encouraged to find them and match them with “Now” views of the City and present ecology. The best contemporary photos submitted from the day’s journey will be added to Shaping San Francisco’s digital archive\, FoundSF.org. Participants will receive a keepsake specially designed for the event. \nKnowledgeable local guides on various topics will be on hand at designated sites to address your curiosities and offer a deeper dive into life at the edge of the continent. With Ocean Beach Institute\, Western Neighborhoods Project\, and Problem Library \nRSVP to shaping@foundsf.org
URL:https://missionlocal.org/event/shaping-sf-ocean-beach-then-now-photo-hunt/
LOCATION:Shaping SF\, 518 Valencia St\, San Francisco\, CA\, United States
ATTACH;FMTTYPE=image/jpeg:https://newspack-missionlocal.s3.amazonaws.com/mission/wp-content/uploads/2026/04/5145614515.jpg
END:VEVENT
BEGIN:VEVENT
DTSTART;TZID=America/Los_Angeles:20260516T120000
DTEND;TZID=America/Los_Angeles:20260516T140000
DTSTAMP:20260423T183414
CREATED:20260423T093542Z
LAST-MODIFIED:20260423T093542Z
UID:10039284-1778932800-1778940000@missionlocal.org
SUMMARY:Shaping SF: Wide Open Town
DESCRIPTION:Author Nan Alamilla Boyd journeys with us through the 20th century San Francisco of gay men and lesbians\, examining the culture that developed around the bar scene and homophile activism when the “City That Knows How” became a town where anything goes. Boyd’s Wide Open Town is a vivid re-creation of bar and drag life\, an absorbing portrait of central figures in the communities\, and a provocative chronicling of this period in the country’s most transgressive city. Learn about early history of the gay and lesbian civil rights movement prior to 1965 as we walk together along Polk Street and into the Tenderloin. \nRSVP to shaping@foundsf.org
URL:https://missionlocal.org/event/shaping-sf-wide-open-town/
LOCATION:Shaping SF\, 518 Valencia St\, San Francisco\, CA\, United States
ATTACH;FMTTYPE=image/jpeg:https://newspack-missionlocal.s3.amazonaws.com/mission/wp-content/uploads/2026/04/ExaminerMardiGrasBall.jpg
END:VEVENT
END:VCALENDAR