BEGIN:VCALENDAR
VERSION:2.0
PRODID:-//Mission Local - ECPv6.15.20//NONSGML v1.0//EN
CALSCALE:GREGORIAN
METHOD:PUBLISH
X-WR-CALNAME:Mission Local
X-ORIGINAL-URL:https://missionlocal.org
X-WR-CALDESC:Events for Mission Local
REFRESH-INTERVAL;VALUE=DURATION:PT1H
X-Robots-Tag:noindex
X-PUBLISHED-TTL:PT1H
BEGIN:VTIMEZONE
TZID:America/Los_Angeles
BEGIN:DAYLIGHT
TZOFFSETFROM:-0800
TZOFFSETTO:-0700
TZNAME:PDT
DTSTART:20250309T100000
END:DAYLIGHT
BEGIN:STANDARD
TZOFFSETFROM:-0700
TZOFFSETTO:-0800
TZNAME:PST
DTSTART:20251102T090000
END:STANDARD
BEGIN:DAYLIGHT
TZOFFSETFROM:-0800
TZOFFSETTO:-0700
TZNAME:PDT
DTSTART:20260308T100000
END:DAYLIGHT
BEGIN:STANDARD
TZOFFSETFROM:-0700
TZOFFSETTO:-0800
TZNAME:PST
DTSTART:20261101T090000
END:STANDARD
BEGIN:DAYLIGHT
TZOFFSETFROM:-0800
TZOFFSETTO:-0700
TZNAME:PDT
DTSTART:20270314T100000
END:DAYLIGHT
BEGIN:STANDARD
TZOFFSETFROM:-0700
TZOFFSETTO:-0800
TZNAME:PST
DTSTART:20271107T090000
END:STANDARD
END:VTIMEZONE
BEGIN:VEVENT
DTSTART;TZID=America/Los_Angeles:20260424T200000
DTEND;TZID=America/Los_Angeles:20260424T220000
DTSTAMP:20260423T151522
CREATED:20260408T174939Z
LAST-MODIFIED:20260408T174939Z
UID:10039196-1777060800-1777068000@missionlocal.org
SUMMARY:Dance Mission Theater: Sean Doresey Dance presents We Choose Each Other
DESCRIPTION:Sean Doresey Dance presents\nWE CHOOSE EACH OTHER \nApril 24-26\, 2026\nFri\, April 24 @ 8pm\nSat April 25 @ 8pm\nSun April 26 @ 4pm *with ASL interpretation* \nKN95 Masks will be provided & required for this event. \nDance Mission Theater\n3316 24th St\, SF \nTICKETS: https://www.eventbrite.com/e/sean-dorsey-dances-22nd-annual-home-season-we-choose-each-other-tickets-1982036293910 \nSean Dorsey Dance’s “We Choose Each Other” is a powerful evening of dances created as a balm for this moment in America. \nDorsey says\, “We know this: again and again\, when our communities are under attack and in crisis\, when we are being harmed\, we choose each other. We choose to hold each other up\, we choose to hold each other more tightly. That is what these dances are about – coming together out of deep care and love for each other.” \nSean Dorsey Dance will perform the world premiere of several new dances and restage pieces from the company’s 20-year award-winning repertoire … treating audiences to the company’s signature fusion of full-throttle dance\, luscious partnering\, intimate storytelling and theater. \nSean Dorsey Dance’s works have been praised as “trailblazing” (San Francisco Chronicle)\, “evocative\, compelling\, elegant” (LA Weekly) and “lush\, expansive\, elegant” (Miami Times). Advance tickets are recommended for this event. \nPerformed by: Sean Dorsey\, Brandon Graham\, Héctor Jaime\, David Le\, and Nol Simonse.\nOriginal music composed by: Jesse Olsen Bay\, Anomie Belle\, and Alex Kelly.\nLighting Design: Clyde Sheets.\nCostume Design: Krystal Harfert.\nStage Manager: Emily Paulson.\nTechnical Director: Jessi Barber.\nSound Engineer & Operator: Jules Indelicato.\nLighting Operator: Harry Rubeck.
URL:https://missionlocal.org/event/dance-mission-theater-sean-doresey-dance-presents-we-choose-each-other/2026-04-24/
LOCATION:Dance Mission Theater\, 3316 24th St\, San Francisco\, CA\, 94110\, United States
ATTACH;FMTTYPE=image/jpeg:https://newspack-missionlocal.s3.amazonaws.com/mission/wp-content/uploads/2026/04/We-Choose-Each-Other_SDD-2026-Save-the-Date-768x768-1.jpg
GEO:37.7524015;-122.4188994
X-APPLE-STRUCTURED-LOCATION;VALUE=URI;X-ADDRESS=Dance Mission Theater 3316 24th St San Francisco CA 94110 United States;X-APPLE-RADIUS=500;X-TITLE=3316 24th St:geo:-122.4188994,37.7524015
END:VEVENT
BEGIN:VEVENT
DTSTART;TZID=America/Los_Angeles:20260425T200000
DTEND;TZID=America/Los_Angeles:20260425T220000
DTSTAMP:20260423T151522
CREATED:20260408T174939Z
LAST-MODIFIED:20260408T174939Z
UID:10039197-1777147200-1777154400@missionlocal.org
SUMMARY:Dance Mission Theater: Sean Doresey Dance presents We Choose Each Other
DESCRIPTION:Sean Doresey Dance presents\nWE CHOOSE EACH OTHER \nApril 24-26\, 2026\nFri\, April 24 @ 8pm\nSat April 25 @ 8pm\nSun April 26 @ 4pm *with ASL interpretation* \nKN95 Masks will be provided & required for this event. \nDance Mission Theater\n3316 24th St\, SF \nTICKETS: https://www.eventbrite.com/e/sean-dorsey-dances-22nd-annual-home-season-we-choose-each-other-tickets-1982036293910 \nSean Dorsey Dance’s “We Choose Each Other” is a powerful evening of dances created as a balm for this moment in America. \nDorsey says\, “We know this: again and again\, when our communities are under attack and in crisis\, when we are being harmed\, we choose each other. We choose to hold each other up\, we choose to hold each other more tightly. That is what these dances are about – coming together out of deep care and love for each other.” \nSean Dorsey Dance will perform the world premiere of several new dances and restage pieces from the company’s 20-year award-winning repertoire … treating audiences to the company’s signature fusion of full-throttle dance\, luscious partnering\, intimate storytelling and theater. \nSean Dorsey Dance’s works have been praised as “trailblazing” (San Francisco Chronicle)\, “evocative\, compelling\, elegant” (LA Weekly) and “lush\, expansive\, elegant” (Miami Times). Advance tickets are recommended for this event. \nPerformed by: Sean Dorsey\, Brandon Graham\, Héctor Jaime\, David Le\, and Nol Simonse.\nOriginal music composed by: Jesse Olsen Bay\, Anomie Belle\, and Alex Kelly.\nLighting Design: Clyde Sheets.\nCostume Design: Krystal Harfert.\nStage Manager: Emily Paulson.\nTechnical Director: Jessi Barber.\nSound Engineer & Operator: Jules Indelicato.\nLighting Operator: Harry Rubeck.
URL:https://missionlocal.org/event/dance-mission-theater-sean-doresey-dance-presents-we-choose-each-other/2026-04-25/
LOCATION:Dance Mission Theater\, 3316 24th St\, San Francisco\, CA\, 94110\, United States
ATTACH;FMTTYPE=image/jpeg:https://newspack-missionlocal.s3.amazonaws.com/mission/wp-content/uploads/2026/04/We-Choose-Each-Other_SDD-2026-Save-the-Date-768x768-1.jpg
GEO:37.7524015;-122.4188994
X-APPLE-STRUCTURED-LOCATION;VALUE=URI;X-ADDRESS=Dance Mission Theater 3316 24th St San Francisco CA 94110 United States;X-APPLE-RADIUS=500;X-TITLE=3316 24th St:geo:-122.4188994,37.7524015
END:VEVENT
BEGIN:VEVENT
DTSTART;TZID=America/Los_Angeles:20260426T160000
DTEND;TZID=America/Los_Angeles:20260426T180000
DTSTAMP:20260423T151522
CREATED:20260408T174939Z
LAST-MODIFIED:20260408T174939Z
UID:10039198-1777219200-1777226400@missionlocal.org
SUMMARY:Dance Mission Theater: Sean Doresey Dance presents We Choose Each Other
DESCRIPTION:Sean Doresey Dance presents\nWE CHOOSE EACH OTHER \nApril 24-26\, 2026\nFri\, April 24 @ 8pm\nSat April 25 @ 8pm\nSun April 26 @ 4pm *with ASL interpretation* \nKN95 Masks will be provided & required for this event. \nDance Mission Theater\n3316 24th St\, SF \nTICKETS: https://www.eventbrite.com/e/sean-dorsey-dances-22nd-annual-home-season-we-choose-each-other-tickets-1982036293910 \nSean Dorsey Dance’s “We Choose Each Other” is a powerful evening of dances created as a balm for this moment in America. \nDorsey says\, “We know this: again and again\, when our communities are under attack and in crisis\, when we are being harmed\, we choose each other. We choose to hold each other up\, we choose to hold each other more tightly. That is what these dances are about – coming together out of deep care and love for each other.” \nSean Dorsey Dance will perform the world premiere of several new dances and restage pieces from the company’s 20-year award-winning repertoire … treating audiences to the company’s signature fusion of full-throttle dance\, luscious partnering\, intimate storytelling and theater. \nSean Dorsey Dance’s works have been praised as “trailblazing” (San Francisco Chronicle)\, “evocative\, compelling\, elegant” (LA Weekly) and “lush\, expansive\, elegant” (Miami Times). Advance tickets are recommended for this event. \nPerformed by: Sean Dorsey\, Brandon Graham\, Héctor Jaime\, David Le\, and Nol Simonse.\nOriginal music composed by: Jesse Olsen Bay\, Anomie Belle\, and Alex Kelly.\nLighting Design: Clyde Sheets.\nCostume Design: Krystal Harfert.\nStage Manager: Emily Paulson.\nTechnical Director: Jessi Barber.\nSound Engineer & Operator: Jules Indelicato.\nLighting Operator: Harry Rubeck.
URL:https://missionlocal.org/event/dance-mission-theater-sean-doresey-dance-presents-we-choose-each-other/2026-04-26/
LOCATION:Dance Mission Theater\, 3316 24th St\, San Francisco\, CA\, 94110\, United States
ATTACH;FMTTYPE=image/jpeg:https://newspack-missionlocal.s3.amazonaws.com/mission/wp-content/uploads/2026/04/We-Choose-Each-Other_SDD-2026-Save-the-Date-768x768-1.jpg
GEO:37.7524015;-122.4188994
X-APPLE-STRUCTURED-LOCATION;VALUE=URI;X-ADDRESS=Dance Mission Theater 3316 24th St San Francisco CA 94110 United States;X-APPLE-RADIUS=500;X-TITLE=3316 24th St:geo:-122.4188994,37.7524015
END:VEVENT
END:VCALENDAR