BEGIN:VCALENDAR
VERSION:2.0
PRODID:-//Mission Local - ECPv6.15.20//NONSGML v1.0//EN
CALSCALE:GREGORIAN
METHOD:PUBLISH
X-WR-CALNAME:Mission Local
X-ORIGINAL-URL:https://missionlocal.org
X-WR-CALDESC:Events for Mission Local
REFRESH-INTERVAL;VALUE=DURATION:PT1H
X-Robots-Tag:noindex
X-PUBLISHED-TTL:PT1H
BEGIN:VTIMEZONE
TZID:America/Los_Angeles
BEGIN:DAYLIGHT
TZOFFSETFROM:-0800
TZOFFSETTO:-0700
TZNAME:PDT
DTSTART:20250309T100000
END:DAYLIGHT
BEGIN:STANDARD
TZOFFSETFROM:-0700
TZOFFSETTO:-0800
TZNAME:PST
DTSTART:20251102T090000
END:STANDARD
BEGIN:DAYLIGHT
TZOFFSETFROM:-0800
TZOFFSETTO:-0700
TZNAME:PDT
DTSTART:20260308T100000
END:DAYLIGHT
BEGIN:STANDARD
TZOFFSETFROM:-0700
TZOFFSETTO:-0800
TZNAME:PST
DTSTART:20261101T090000
END:STANDARD
BEGIN:DAYLIGHT
TZOFFSETFROM:-0800
TZOFFSETTO:-0700
TZNAME:PDT
DTSTART:20270314T100000
END:DAYLIGHT
BEGIN:STANDARD
TZOFFSETFROM:-0700
TZOFFSETTO:-0800
TZNAME:PST
DTSTART:20271107T090000
END:STANDARD
END:VTIMEZONE
BEGIN:VEVENT
DTSTART;TZID=America/Los_Angeles:20260424T193000
DTEND;TZID=America/Los_Angeles:20260424T213000
DTSTAMP:20260424T052524
CREATED:20260416T155055Z
LAST-MODIFIED:20260416T155055Z
UID:10039244-1777059000-1777066200@missionlocal.org
SUMMARY:ODC Theater: FACT/SF - The Waves
DESCRIPTION:FACT/SF: The Waves\nWorld Premiere \nRun Time: 90 minutes with no intermission \nFriday\, April 24\, 2026\, 7:30pm – ASL Interpretation\nSaturday\, April 25\, 2026\, 7:30pm – Post-Show Artist Talk\nSunday\, April 26\, 2025\, 5:30pm – Additional Wheelchair Seating \nGet swept up in The Waves\, an expansive\, intimate\, surreal\, and impressionistic contemporary dance about sound waves\, light waves\, brain waves\, and intersubjectivity. The piece considers how individuals experience and craft their own sense of reality. The Waves is conceived and directed by Charlie Slender-White\, and utilizes Virginia Woolf’s novel of the same name as a primary source text.\nFACT/SF is a San Francisco-based contemporary dance company\, founded in 2008 by Artistic Director Charlie Slender-White as a platform for creating choreography\, organizing collaborators\, and building community. FACT/SF’s work is both body-based and concept-driven\, and often explores themes of individuality\, groupthink\, and disorder. FACT/SF also runs a set of programs\, called Fieldwork\, which enrich the local dance ecology by providing material resources and opportunities to other contemporary dance artists in the field.\nThis project is generously supported by the Charlotte Mailliard Shultz Fund for the Arts\, San Francisco Arts Commission\, San Francisco Grants for the Arts\, ODC Theater\, and FACT/SF Co-Producers & Supporting Partners. \nDialogue on The Waves with Charlie Slender-White\nOn Friday\, February 27 at 6:00PM\, join Charlie Slender-White for light refreshments and a discussion on artistic themes\, choreography\, and composition in the ODC Theater Lobby. RSVP \nPost-Show Discussion with Charlie Slender-White and Virginia Woolf scholar Elizabeth Abel.\nB. Way Theater\nOn Saturday night\, stay post-show for a discussion on Virginia Woolf’s The Waves with Charlie Slender-White and Elizabeth Abel. \nCoffee Hour with Mariana Valencia\, Jazmin Romero\, & Charlie Slender-White\nOn Sunday\, April 26\, 2026\, at 11:00AM\, join Mariana Valencia\, Jazmin Romero\, and Charles Slender-White for coffee\, pastries\, and a discussion on choreography and composition in the ODC Theater Lobby. RSVP
URL:https://missionlocal.org/event/odc-theater-fact-sf-the-waves/2026-04-24/
LOCATION:ODC Theater\, 3153 17th St\, San Francisco\, CA\, 94110\, United States
ATTACH;FMTTYPE=image/jpeg:https://newspack-missionlocal.s3.amazonaws.com/mission/wp-content/uploads/2026/04/servlet.jpg
GEO:37.7634025;-122.4164619
X-APPLE-STRUCTURED-LOCATION;VALUE=URI;X-ADDRESS=ODC Theater 3153 17th St San Francisco CA 94110 United States;X-APPLE-RADIUS=500;X-TITLE=3153 17th St:geo:-122.4164619,37.7634025
END:VEVENT
BEGIN:VEVENT
DTSTART;TZID=America/Los_Angeles:20260425T193000
DTEND;TZID=America/Los_Angeles:20260425T213000
DTSTAMP:20260424T052524
CREATED:20260416T155055Z
LAST-MODIFIED:20260416T155055Z
UID:10039245-1777145400-1777152600@missionlocal.org
SUMMARY:ODC Theater: FACT/SF - The Waves
DESCRIPTION:FACT/SF: The Waves\nWorld Premiere \nRun Time: 90 minutes with no intermission \nFriday\, April 24\, 2026\, 7:30pm – ASL Interpretation\nSaturday\, April 25\, 2026\, 7:30pm – Post-Show Artist Talk\nSunday\, April 26\, 2025\, 5:30pm – Additional Wheelchair Seating \nGet swept up in The Waves\, an expansive\, intimate\, surreal\, and impressionistic contemporary dance about sound waves\, light waves\, brain waves\, and intersubjectivity. The piece considers how individuals experience and craft their own sense of reality. The Waves is conceived and directed by Charlie Slender-White\, and utilizes Virginia Woolf’s novel of the same name as a primary source text.\nFACT/SF is a San Francisco-based contemporary dance company\, founded in 2008 by Artistic Director Charlie Slender-White as a platform for creating choreography\, organizing collaborators\, and building community. FACT/SF’s work is both body-based and concept-driven\, and often explores themes of individuality\, groupthink\, and disorder. FACT/SF also runs a set of programs\, called Fieldwork\, which enrich the local dance ecology by providing material resources and opportunities to other contemporary dance artists in the field.\nThis project is generously supported by the Charlotte Mailliard Shultz Fund for the Arts\, San Francisco Arts Commission\, San Francisco Grants for the Arts\, ODC Theater\, and FACT/SF Co-Producers & Supporting Partners. \nDialogue on The Waves with Charlie Slender-White\nOn Friday\, February 27 at 6:00PM\, join Charlie Slender-White for light refreshments and a discussion on artistic themes\, choreography\, and composition in the ODC Theater Lobby. RSVP \nPost-Show Discussion with Charlie Slender-White and Virginia Woolf scholar Elizabeth Abel.\nB. Way Theater\nOn Saturday night\, stay post-show for a discussion on Virginia Woolf’s The Waves with Charlie Slender-White and Elizabeth Abel. \nCoffee Hour with Mariana Valencia\, Jazmin Romero\, & Charlie Slender-White\nOn Sunday\, April 26\, 2026\, at 11:00AM\, join Mariana Valencia\, Jazmin Romero\, and Charles Slender-White for coffee\, pastries\, and a discussion on choreography and composition in the ODC Theater Lobby. RSVP
URL:https://missionlocal.org/event/odc-theater-fact-sf-the-waves/2026-04-25/
LOCATION:ODC Theater\, 3153 17th St\, San Francisco\, CA\, 94110\, United States
ATTACH;FMTTYPE=image/jpeg:https://newspack-missionlocal.s3.amazonaws.com/mission/wp-content/uploads/2026/04/servlet.jpg
GEO:37.7634025;-122.4164619
X-APPLE-STRUCTURED-LOCATION;VALUE=URI;X-ADDRESS=ODC Theater 3153 17th St San Francisco CA 94110 United States;X-APPLE-RADIUS=500;X-TITLE=3153 17th St:geo:-122.4164619,37.7634025
END:VEVENT
BEGIN:VEVENT
DTSTART;TZID=America/Los_Angeles:20260426T173000
DTEND;TZID=America/Los_Angeles:20260426T193000
DTSTAMP:20260424T052524
CREATED:20260416T155055Z
LAST-MODIFIED:20260416T155055Z
UID:10039246-1777224600-1777231800@missionlocal.org
SUMMARY:ODC Theater: FACT/SF - The Waves
DESCRIPTION:FACT/SF: The Waves\nWorld Premiere \nRun Time: 90 minutes with no intermission \nFriday\, April 24\, 2026\, 7:30pm – ASL Interpretation\nSaturday\, April 25\, 2026\, 7:30pm – Post-Show Artist Talk\nSunday\, April 26\, 2025\, 5:30pm – Additional Wheelchair Seating \nGet swept up in The Waves\, an expansive\, intimate\, surreal\, and impressionistic contemporary dance about sound waves\, light waves\, brain waves\, and intersubjectivity. The piece considers how individuals experience and craft their own sense of reality. The Waves is conceived and directed by Charlie Slender-White\, and utilizes Virginia Woolf’s novel of the same name as a primary source text.\nFACT/SF is a San Francisco-based contemporary dance company\, founded in 2008 by Artistic Director Charlie Slender-White as a platform for creating choreography\, organizing collaborators\, and building community. FACT/SF’s work is both body-based and concept-driven\, and often explores themes of individuality\, groupthink\, and disorder. FACT/SF also runs a set of programs\, called Fieldwork\, which enrich the local dance ecology by providing material resources and opportunities to other contemporary dance artists in the field.\nThis project is generously supported by the Charlotte Mailliard Shultz Fund for the Arts\, San Francisco Arts Commission\, San Francisco Grants for the Arts\, ODC Theater\, and FACT/SF Co-Producers & Supporting Partners. \nDialogue on The Waves with Charlie Slender-White\nOn Friday\, February 27 at 6:00PM\, join Charlie Slender-White for light refreshments and a discussion on artistic themes\, choreography\, and composition in the ODC Theater Lobby. RSVP \nPost-Show Discussion with Charlie Slender-White and Virginia Woolf scholar Elizabeth Abel.\nB. Way Theater\nOn Saturday night\, stay post-show for a discussion on Virginia Woolf’s The Waves with Charlie Slender-White and Elizabeth Abel. \nCoffee Hour with Mariana Valencia\, Jazmin Romero\, & Charlie Slender-White\nOn Sunday\, April 26\, 2026\, at 11:00AM\, join Mariana Valencia\, Jazmin Romero\, and Charles Slender-White for coffee\, pastries\, and a discussion on choreography and composition in the ODC Theater Lobby. RSVP
URL:https://missionlocal.org/event/odc-theater-fact-sf-the-waves/2026-04-26/
LOCATION:ODC Theater\, 3153 17th St\, San Francisco\, CA\, 94110\, United States
ATTACH;FMTTYPE=image/jpeg:https://newspack-missionlocal.s3.amazonaws.com/mission/wp-content/uploads/2026/04/servlet.jpg
GEO:37.7634025;-122.4164619
X-APPLE-STRUCTURED-LOCATION;VALUE=URI;X-ADDRESS=ODC Theater 3153 17th St San Francisco CA 94110 United States;X-APPLE-RADIUS=500;X-TITLE=3153 17th St:geo:-122.4164619,37.7634025
END:VEVENT
END:VCALENDAR