BEGIN:VCALENDAR
VERSION:2.0
PRODID:-//Mission Local - ECPv6.15.20//NONSGML v1.0//EN
CALSCALE:GREGORIAN
METHOD:PUBLISH
X-WR-CALNAME:Mission Local
X-ORIGINAL-URL:https://missionlocal.org
X-WR-CALDESC:Events for Mission Local
REFRESH-INTERVAL;VALUE=DURATION:PT1H
X-Robots-Tag:noindex
X-PUBLISHED-TTL:PT1H
BEGIN:VTIMEZONE
TZID:America/Los_Angeles
BEGIN:DAYLIGHT
TZOFFSETFROM:-0800
TZOFFSETTO:-0700
TZNAME:PDT
DTSTART:20250309T100000
END:DAYLIGHT
BEGIN:STANDARD
TZOFFSETFROM:-0700
TZOFFSETTO:-0800
TZNAME:PST
DTSTART:20251102T090000
END:STANDARD
BEGIN:DAYLIGHT
TZOFFSETFROM:-0800
TZOFFSETTO:-0700
TZNAME:PDT
DTSTART:20260308T100000
END:DAYLIGHT
BEGIN:STANDARD
TZOFFSETFROM:-0700
TZOFFSETTO:-0800
TZNAME:PST
DTSTART:20261101T090000
END:STANDARD
BEGIN:DAYLIGHT
TZOFFSETFROM:-0800
TZOFFSETTO:-0700
TZNAME:PDT
DTSTART:20270314T100000
END:DAYLIGHT
BEGIN:STANDARD
TZOFFSETFROM:-0700
TZOFFSETTO:-0800
TZNAME:PST
DTSTART:20271107T090000
END:STANDARD
END:VTIMEZONE
BEGIN:VEVENT
DTSTART;TZID=America/Los_Angeles:20260430T200000
DTEND;TZID=America/Los_Angeles:20260430T213000
DTSTAMP:20260423T135509
CREATED:20260404T172057Z
LAST-MODIFIED:20260404T172057Z
UID:10039150-1777579200-1777584600@missionlocal.org
SUMMARY:Z Space: Clouds from a Crumbling Giant: our wild shining days
DESCRIPTION:Performed and Produced by inkBoat\nClouds from a Crumbling Giant\nour wild shining days \nApril 30 – May 3\, 2026\nZ Space’s Steindler Stage \nClouds from a Crumbling Giant: our wild shining days\, breathes in the spaces of time between human incarnations. Broken yet boundless bodies enter the waiting room of the afterlife. As they re-enact their corporeal memories\, consciousness folds in upon itself. 496 moons rise and fall. The band plays “Hazy Shade of Winter.” \ninkBoat\, founded in 1998\, continually invites in the collaborative voices of artists who meet in uncertain territories. The company brings together disperate backgrounds in Noh Theater\, Coporeal Mime\, Butoh Dance\, Physical Theater\, and unconventional orchestrations involving acoustic instruments\, sound design and nostalgic wonderment.  \nPresented by San Francisco International Arts Festival\nBUY TICKETS https://ci.ovationtix.com/34231/production/1268037 \nShinichi Iova-Koga directs this rumination on being and non-being in collaboration with Dana Iova-Koga\, Jubilith Moore\, Dan Cantrell\, Elke Luyten\, Cass Tunick\, Adria Otte\, Mari Osanai\, Allen Willner and KT Nelson. \nAdditional collaborators include Pamela Z\, Khatchadour Khatchadourian\, Suki O’Kane\, Shahzad Ismaily\, Kaori Yamashita\, Edward Schocker\, Brian Collentine\, Jon Raskin\, Ann Dragich\, Eileen Housteau\, Erin Carper\, Joy Cosculluela\, Mary Parks\, Carla Kihlstedt\, Crow Nishimura\, Joshua Kohl\, Jackson Kao\, Maia\, Elizabeth Pasquale\, Jim Koester and members of EMBODIMENT PROJECT! \ninkBoat Funders: Zellerbach Family Foundation\, New England Foundation for the Arts\, Rainin Foundation\, MAP Fund (supported by the Doris Duke Charitable Foundation\, Howard Gilman Foundation and Mellon Foundation)\, National Endowment for the Arts\, CASH Fund and San Francisco Arts Commission.
URL:https://missionlocal.org/event/z-space-clouds-from-a-crumbling-giant-our-wild-shining-days/2026-04-30/
LOCATION:Z Space\, 450 Florida St\, San Francisco\, CA\, 94110\, United States
ATTACH;FMTTYPE=image/jpeg:https://newspack-missionlocal.s3.amazonaws.com/mission/wp-content/uploads/2026/04/inkboat.jpg
GEO:37.7637026;-122.411551
X-APPLE-STRUCTURED-LOCATION;VALUE=URI;X-ADDRESS=Z Space 450 Florida St San Francisco CA 94110 United States;X-APPLE-RADIUS=500;X-TITLE=450 Florida St:geo:-122.411551,37.7637026
END:VEVENT
BEGIN:VEVENT
DTSTART;TZID=America/Los_Angeles:20260501T200000
DTEND;TZID=America/Los_Angeles:20260501T213000
DTSTAMP:20260423T135509
CREATED:20260404T172057Z
LAST-MODIFIED:20260404T172057Z
UID:10039151-1777665600-1777671000@missionlocal.org
SUMMARY:Z Space: Clouds from a Crumbling Giant: our wild shining days
DESCRIPTION:Performed and Produced by inkBoat\nClouds from a Crumbling Giant\nour wild shining days \nApril 30 – May 3\, 2026\nZ Space’s Steindler Stage \nClouds from a Crumbling Giant: our wild shining days\, breathes in the spaces of time between human incarnations. Broken yet boundless bodies enter the waiting room of the afterlife. As they re-enact their corporeal memories\, consciousness folds in upon itself. 496 moons rise and fall. The band plays “Hazy Shade of Winter.” \ninkBoat\, founded in 1998\, continually invites in the collaborative voices of artists who meet in uncertain territories. The company brings together disperate backgrounds in Noh Theater\, Coporeal Mime\, Butoh Dance\, Physical Theater\, and unconventional orchestrations involving acoustic instruments\, sound design and nostalgic wonderment.  \nPresented by San Francisco International Arts Festival\nBUY TICKETS https://ci.ovationtix.com/34231/production/1268037 \nShinichi Iova-Koga directs this rumination on being and non-being in collaboration with Dana Iova-Koga\, Jubilith Moore\, Dan Cantrell\, Elke Luyten\, Cass Tunick\, Adria Otte\, Mari Osanai\, Allen Willner and KT Nelson. \nAdditional collaborators include Pamela Z\, Khatchadour Khatchadourian\, Suki O’Kane\, Shahzad Ismaily\, Kaori Yamashita\, Edward Schocker\, Brian Collentine\, Jon Raskin\, Ann Dragich\, Eileen Housteau\, Erin Carper\, Joy Cosculluela\, Mary Parks\, Carla Kihlstedt\, Crow Nishimura\, Joshua Kohl\, Jackson Kao\, Maia\, Elizabeth Pasquale\, Jim Koester and members of EMBODIMENT PROJECT! \ninkBoat Funders: Zellerbach Family Foundation\, New England Foundation for the Arts\, Rainin Foundation\, MAP Fund (supported by the Doris Duke Charitable Foundation\, Howard Gilman Foundation and Mellon Foundation)\, National Endowment for the Arts\, CASH Fund and San Francisco Arts Commission.
URL:https://missionlocal.org/event/z-space-clouds-from-a-crumbling-giant-our-wild-shining-days/2026-05-01/
LOCATION:Z Space\, 450 Florida St\, San Francisco\, CA\, 94110\, United States
ATTACH;FMTTYPE=image/jpeg:https://newspack-missionlocal.s3.amazonaws.com/mission/wp-content/uploads/2026/04/inkboat.jpg
GEO:37.7637026;-122.411551
X-APPLE-STRUCTURED-LOCATION;VALUE=URI;X-ADDRESS=Z Space 450 Florida St San Francisco CA 94110 United States;X-APPLE-RADIUS=500;X-TITLE=450 Florida St:geo:-122.411551,37.7637026
END:VEVENT
BEGIN:VEVENT
DTSTART;TZID=America/Los_Angeles:20260502T200000
DTEND;TZID=America/Los_Angeles:20260502T213000
DTSTAMP:20260423T135509
CREATED:20260404T172057Z
LAST-MODIFIED:20260404T172057Z
UID:10039152-1777752000-1777757400@missionlocal.org
SUMMARY:Z Space: Clouds from a Crumbling Giant: our wild shining days
DESCRIPTION:Performed and Produced by inkBoat\nClouds from a Crumbling Giant\nour wild shining days \nApril 30 – May 3\, 2026\nZ Space’s Steindler Stage \nClouds from a Crumbling Giant: our wild shining days\, breathes in the spaces of time between human incarnations. Broken yet boundless bodies enter the waiting room of the afterlife. As they re-enact their corporeal memories\, consciousness folds in upon itself. 496 moons rise and fall. The band plays “Hazy Shade of Winter.” \ninkBoat\, founded in 1998\, continually invites in the collaborative voices of artists who meet in uncertain territories. The company brings together disperate backgrounds in Noh Theater\, Coporeal Mime\, Butoh Dance\, Physical Theater\, and unconventional orchestrations involving acoustic instruments\, sound design and nostalgic wonderment.  \nPresented by San Francisco International Arts Festival\nBUY TICKETS https://ci.ovationtix.com/34231/production/1268037 \nShinichi Iova-Koga directs this rumination on being and non-being in collaboration with Dana Iova-Koga\, Jubilith Moore\, Dan Cantrell\, Elke Luyten\, Cass Tunick\, Adria Otte\, Mari Osanai\, Allen Willner and KT Nelson. \nAdditional collaborators include Pamela Z\, Khatchadour Khatchadourian\, Suki O’Kane\, Shahzad Ismaily\, Kaori Yamashita\, Edward Schocker\, Brian Collentine\, Jon Raskin\, Ann Dragich\, Eileen Housteau\, Erin Carper\, Joy Cosculluela\, Mary Parks\, Carla Kihlstedt\, Crow Nishimura\, Joshua Kohl\, Jackson Kao\, Maia\, Elizabeth Pasquale\, Jim Koester and members of EMBODIMENT PROJECT! \ninkBoat Funders: Zellerbach Family Foundation\, New England Foundation for the Arts\, Rainin Foundation\, MAP Fund (supported by the Doris Duke Charitable Foundation\, Howard Gilman Foundation and Mellon Foundation)\, National Endowment for the Arts\, CASH Fund and San Francisco Arts Commission.
URL:https://missionlocal.org/event/z-space-clouds-from-a-crumbling-giant-our-wild-shining-days/2026-05-02/
LOCATION:Z Space\, 450 Florida St\, San Francisco\, CA\, 94110\, United States
ATTACH;FMTTYPE=image/jpeg:https://newspack-missionlocal.s3.amazonaws.com/mission/wp-content/uploads/2026/04/inkboat.jpg
GEO:37.7637026;-122.411551
X-APPLE-STRUCTURED-LOCATION;VALUE=URI;X-ADDRESS=Z Space 450 Florida St San Francisco CA 94110 United States;X-APPLE-RADIUS=500;X-TITLE=450 Florida St:geo:-122.411551,37.7637026
END:VEVENT
BEGIN:VEVENT
DTSTART;TZID=America/Los_Angeles:20260503T150000
DTEND;TZID=America/Los_Angeles:20260503T163000
DTSTAMP:20260423T135509
CREATED:20260404T172057Z
LAST-MODIFIED:20260404T172057Z
UID:10039153-1777820400-1777825800@missionlocal.org
SUMMARY:Z Space: Clouds from a Crumbling Giant: our wild shining days
DESCRIPTION:Performed and Produced by inkBoat\nClouds from a Crumbling Giant\nour wild shining days \nApril 30 – May 3\, 2026\nZ Space’s Steindler Stage \nClouds from a Crumbling Giant: our wild shining days\, breathes in the spaces of time between human incarnations. Broken yet boundless bodies enter the waiting room of the afterlife. As they re-enact their corporeal memories\, consciousness folds in upon itself. 496 moons rise and fall. The band plays “Hazy Shade of Winter.” \ninkBoat\, founded in 1998\, continually invites in the collaborative voices of artists who meet in uncertain territories. The company brings together disperate backgrounds in Noh Theater\, Coporeal Mime\, Butoh Dance\, Physical Theater\, and unconventional orchestrations involving acoustic instruments\, sound design and nostalgic wonderment.  \nPresented by San Francisco International Arts Festival\nBUY TICKETS https://ci.ovationtix.com/34231/production/1268037 \nShinichi Iova-Koga directs this rumination on being and non-being in collaboration with Dana Iova-Koga\, Jubilith Moore\, Dan Cantrell\, Elke Luyten\, Cass Tunick\, Adria Otte\, Mari Osanai\, Allen Willner and KT Nelson. \nAdditional collaborators include Pamela Z\, Khatchadour Khatchadourian\, Suki O’Kane\, Shahzad Ismaily\, Kaori Yamashita\, Edward Schocker\, Brian Collentine\, Jon Raskin\, Ann Dragich\, Eileen Housteau\, Erin Carper\, Joy Cosculluela\, Mary Parks\, Carla Kihlstedt\, Crow Nishimura\, Joshua Kohl\, Jackson Kao\, Maia\, Elizabeth Pasquale\, Jim Koester and members of EMBODIMENT PROJECT! \ninkBoat Funders: Zellerbach Family Foundation\, New England Foundation for the Arts\, Rainin Foundation\, MAP Fund (supported by the Doris Duke Charitable Foundation\, Howard Gilman Foundation and Mellon Foundation)\, National Endowment for the Arts\, CASH Fund and San Francisco Arts Commission.
URL:https://missionlocal.org/event/z-space-clouds-from-a-crumbling-giant-our-wild-shining-days/2026-05-03/
LOCATION:Z Space\, 450 Florida St\, San Francisco\, CA\, 94110\, United States
ATTACH;FMTTYPE=image/jpeg:https://newspack-missionlocal.s3.amazonaws.com/mission/wp-content/uploads/2026/04/inkboat.jpg
GEO:37.7637026;-122.411551
X-APPLE-STRUCTURED-LOCATION;VALUE=URI;X-ADDRESS=Z Space 450 Florida St San Francisco CA 94110 United States;X-APPLE-RADIUS=500;X-TITLE=450 Florida St:geo:-122.411551,37.7637026
END:VEVENT
END:VCALENDAR